BEGIN:VCALENDAR
VERSION:2.0
PRODID:-//Phylactères - ECPv6.15.18//NONSGML v1.0//EN
CALSCALE:GREGORIAN
METHOD:PUBLISH
X-WR-CALNAME:Phylactères
X-ORIGINAL-URL:https://phylacteres-bd.fr
X-WR-CALDESC:Évènements pour Phylactères
REFRESH-INTERVAL;VALUE=DURATION:PT1H
X-Robots-Tag:noindex
X-PUBLISHED-TTL:PT1H
BEGIN:VTIMEZONE
TZID:Europe/Paris
BEGIN:DAYLIGHT
TZOFFSETFROM:+0100
TZOFFSETTO:+0200
TZNAME:CEST
DTSTART:20230326T010000
END:DAYLIGHT
BEGIN:STANDARD
TZOFFSETFROM:+0200
TZOFFSETTO:+0100
TZNAME:CET
DTSTART:20231029T010000
END:STANDARD
BEGIN:DAYLIGHT
TZOFFSETFROM:+0100
TZOFFSETTO:+0200
TZNAME:CEST
DTSTART:20240331T010000
END:DAYLIGHT
BEGIN:STANDARD
TZOFFSETFROM:+0200
TZOFFSETTO:+0100
TZNAME:CET
DTSTART:20241027T010000
END:STANDARD
BEGIN:DAYLIGHT
TZOFFSETFROM:+0100
TZOFFSETTO:+0200
TZNAME:CEST
DTSTART:20250330T010000
END:DAYLIGHT
BEGIN:STANDARD
TZOFFSETFROM:+0200
TZOFFSETTO:+0100
TZNAME:CET
DTSTART:20251026T010000
END:STANDARD
END:VTIMEZONE
BEGIN:VEVENT
DTSTART;TZID=Europe/Paris:20240407T100000
DTEND;TZID=Europe/Paris:20240407T180000
DTSTAMP:20260424T070345
CREATED:20240316T160402Z
LAST-MODIFIED:20240316T160402Z
UID:1495-1712484000-1712512800@phylacteres-bd.fr
SUMMARY:Autour du Livre - Festival Seichamps 2024
DESCRIPTION:Le Salon Autour du Livre de Seichamps\, c’est une journée de rencontres\, dédicaces\, expositions\, animations\, démonstrations et ateliers pour fêter le livre entre amis ou en famille. Rendez-vous dimanche 7 avril de 10h00 à 18h00 au centre socio-culturel de Seichamps pour profiter de cette énième édition de la manifestation « Autour du livre » organisée par la ville de Seichamps. L’évènement regroupe plusieurs illustrateurs\, auteurs ou encore éditeurs qui partageront leurs œuvres\, leurs connaissances et savoirs afin de transmettre le plaisir de lire. Retrouvez nos auteurs de Phylactères\, heureux de retourner à cette manifestation et vous y retrouver. \n  \n\nLieu : Centre Socio-Culturel de Seichamps\nHoraires : Dimanche 7 avril de 10h00 à 18h00\n\n 
URL:https://phylacteres-bd.fr/index.php/event/autour-du-livre-festival-seichamps-2024/
LOCATION:Centre socioculturel de Seichamps\, 10\, place François-Mitterrand\,  Seichamps\, 54280\, France
CATEGORIES:Exposition,Festival BD,Rencontre d'auteur(s),Salon littéraire
ATTACH;FMTTYPE=image/jpeg:https://phylacteres-bd.fr/wp-content/uploads/2024/03/DSC05323-scaled.jpeg
END:VEVENT
END:VCALENDAR