BEGIN:VCALENDAR
VERSION:2.0
PRODID:-//Phylactères - ECPv6.15.18//NONSGML v1.0//EN
CALSCALE:GREGORIAN
METHOD:PUBLISH
X-ORIGINAL-URL:https://phylacteres-bd.fr
X-WR-CALDESC:Évènements pour Phylactères
REFRESH-INTERVAL;VALUE=DURATION:PT1H
X-Robots-Tag:noindex
X-PUBLISHED-TTL:PT1H
BEGIN:VTIMEZONE
TZID:Europe/Paris
BEGIN:DAYLIGHT
TZOFFSETFROM:+0100
TZOFFSETTO:+0200
TZNAME:CEST
DTSTART:20230326T010000
END:DAYLIGHT
BEGIN:STANDARD
TZOFFSETFROM:+0200
TZOFFSETTO:+0100
TZNAME:CET
DTSTART:20231029T010000
END:STANDARD
BEGIN:DAYLIGHT
TZOFFSETFROM:+0100
TZOFFSETTO:+0200
TZNAME:CEST
DTSTART:20240331T010000
END:DAYLIGHT
BEGIN:STANDARD
TZOFFSETFROM:+0200
TZOFFSETTO:+0100
TZNAME:CET
DTSTART:20241027T010000
END:STANDARD
BEGIN:DAYLIGHT
TZOFFSETFROM:+0100
TZOFFSETTO:+0200
TZNAME:CEST
DTSTART:20250330T010000
END:DAYLIGHT
BEGIN:STANDARD
TZOFFSETFROM:+0200
TZOFFSETTO:+0100
TZNAME:CET
DTSTART:20251026T010000
END:STANDARD
END:VTIMEZONE
BEGIN:VEVENT
DTSTART;TZID=Europe/Paris:20240504T100000
DTEND;TZID=Europe/Paris:20240505T180000
DTSTAMP:20260424T063730
CREATED:20240303T173154Z
LAST-MODIFIED:20240303T173245Z
UID:1484-1714816800-1714932000@phylacteres-bd.fr
SUMMARY:Rayon Vert 2024
DESCRIPTION:Le Rayon Vert – festival BD vous donne rendez-vous le 4 et 5 mai 2024 pour sa 12ème édition! Cette année l’affiche « Sincity-esque » réalisée par Grégory Lê alias GengisKahn Artwork revêt les « couleurs » du polar et invoque (appel?) Cthulhu au passage… \nComme chaque année\, nous y serons les 2 jours !
URL:https://phylacteres-bd.fr/index.php/event/rayon-vert-2024/
LOCATION:Centre Saint Michel\, Domaine de Volkrange / Boucle de la Ferme\, Thionville\, 57100\, France
CATEGORIES:Festival BD
ATTACH;FMTTYPE=image/jpeg:https://phylacteres-bd.fr/wp-content/uploads/2024/03/rv24-e1709486991930.jpeg
ORGANIZER;CN="Centre Saint Michel":MAILTO:festival_bd@centresaintmichel.fr
END:VEVENT
END:VCALENDAR