BEGIN:VCALENDAR
VERSION:2.0
PRODID:-//Phylactères - ECPv6.15.18//NONSGML v1.0//EN
CALSCALE:GREGORIAN
METHOD:PUBLISH
X-WR-CALNAME:Phylactères
X-ORIGINAL-URL:https://phylacteres-bd.fr
X-WR-CALDESC:Évènements pour Phylactères
REFRESH-INTERVAL;VALUE=DURATION:PT1H
X-Robots-Tag:noindex
X-PUBLISHED-TTL:PT1H
BEGIN:VTIMEZONE
TZID:Europe/Paris
BEGIN:DAYLIGHT
TZOFFSETFROM:+0100
TZOFFSETTO:+0200
TZNAME:CEST
DTSTART:20220327T010000
END:DAYLIGHT
BEGIN:STANDARD
TZOFFSETFROM:+0200
TZOFFSETTO:+0100
TZNAME:CET
DTSTART:20221030T010000
END:STANDARD
BEGIN:DAYLIGHT
TZOFFSETFROM:+0100
TZOFFSETTO:+0200
TZNAME:CEST
DTSTART:20230326T010000
END:DAYLIGHT
BEGIN:STANDARD
TZOFFSETFROM:+0200
TZOFFSETTO:+0100
TZNAME:CET
DTSTART:20231029T010000
END:STANDARD
BEGIN:DAYLIGHT
TZOFFSETFROM:+0100
TZOFFSETTO:+0200
TZNAME:CEST
DTSTART:20240331T010000
END:DAYLIGHT
BEGIN:STANDARD
TZOFFSETFROM:+0200
TZOFFSETTO:+0100
TZNAME:CET
DTSTART:20241027T010000
END:STANDARD
END:VTIMEZONE
BEGIN:VEVENT
DTSTART;TZID=Europe/Paris:20230611T080000
DTEND;TZID=Europe/Paris:20230611T170000
DTSTAMP:20260425T043237
CREATED:20230611T061913Z
LAST-MODIFIED:20230611T061913Z
UID:1236-1686470400-1686502800@phylacteres-bd.fr
SUMMARY:Café BD du 13 juin
DESCRIPTION:Les membres du collectif Association Phylactères seront présents le mardi 13 juin de 19h à 21h au local à vivre(s) pour vous proposer un café BD !  \n Un café BD est un événement !  C’est l’occasion de parler avec des auteurs\, de se procurer leurs ouvrages dédicacés\, de faire des petits jeux autour de la BD\, de passer un bon moment dans une ambiance conviviale et pourquoi pas rencontrer de jeunes talents ! \nÇa va buller  \n———-\ncourt-circuit Nancy\n47 rue Voltaire Laxou\népicerie vrac\, produits bio et locaux / café-bar 100% produits locaux\nLieu de vie\, exposition\, ludothèque\, bibliothèque\, culture\, ateliers\, écologie\, rencontres\nmardi-samedi 10h – 22h\n03 83 19 71 03\n local@courtcircuitnancy.fr
URL:https://phylacteres-bd.fr/index.php/event/cafe-bd-du-13-juin/
LOCATION:court-circuit Nancy\, 47 rue Voltaire\, Laxou\, 54000\, France
CATEGORIES:Café BD
ATTACH;FMTTYPE=image/jpeg:https://phylacteres-bd.fr/wp-content/uploads/2023/06/352547434_734420438686833_8506716029836034006_n-e1686464342994.jpeg
END:VEVENT
END:VCALENDAR