BEGIN:VCALENDAR
VERSION:2.0
PRODID:-//Phylactères - ECPv6.15.18//NONSGML v1.0//EN
CALSCALE:GREGORIAN
METHOD:PUBLISH
X-WR-CALNAME:Phylactères
X-ORIGINAL-URL:https://phylacteres-bd.fr
X-WR-CALDESC:Évènements pour Phylactères
REFRESH-INTERVAL;VALUE=DURATION:PT1H
X-Robots-Tag:noindex
X-PUBLISHED-TTL:PT1H
BEGIN:VTIMEZONE
TZID:Europe/Paris
BEGIN:DAYLIGHT
TZOFFSETFROM:+0100
TZOFFSETTO:+0200
TZNAME:CEST
DTSTART:20220327T010000
END:DAYLIGHT
BEGIN:STANDARD
TZOFFSETFROM:+0200
TZOFFSETTO:+0100
TZNAME:CET
DTSTART:20221030T010000
END:STANDARD
BEGIN:DAYLIGHT
TZOFFSETFROM:+0100
TZOFFSETTO:+0200
TZNAME:CEST
DTSTART:20230326T010000
END:DAYLIGHT
BEGIN:STANDARD
TZOFFSETFROM:+0200
TZOFFSETTO:+0100
TZNAME:CET
DTSTART:20231029T010000
END:STANDARD
BEGIN:DAYLIGHT
TZOFFSETFROM:+0100
TZOFFSETTO:+0200
TZNAME:CEST
DTSTART:20240331T010000
END:DAYLIGHT
BEGIN:STANDARD
TZOFFSETFROM:+0200
TZOFFSETTO:+0100
TZNAME:CET
DTSTART:20241027T010000
END:STANDARD
END:VTIMEZONE
BEGIN:VEVENT
DTSTART;TZID=Europe/Paris:20230414T100000
DTEND;TZID=Europe/Paris:20230416T180000
DTSTAMP:20260425T033935
CREATED:20230110T081302Z
LAST-MODIFIED:20230110T081302Z
UID:971-1681466400-1681668000@phylacteres-bd.fr
SUMMARY:Livre à Metz 2023
DESCRIPTION:Le festival Le Livre à Metz – Littérature & Journalisme se tient chaque année au printemps dans la capitale Lorraine. Pendant trois jours et dans toute la ville\, des temps de rencontres privilégiés entre les auteurs et leurs lecteurs rythment la vie de la cité. Ce rendez-vous unique en France permet de croiser les expériences et d’explorer le réel  en offrant un large panorama des questions d’actualité autour de 200 invités dont des auteurs et journalistes étrangers. 30 000 visiteurs fréquentent la manifestation\, et plus de 70 événements thématiques sont proposés à tous les publics. La manifestation accueille également une soixantaine d’auteurs régionaux. \nLa thématique 2023 s’intitulera « VERTIGES »\, un thème qui fait écho au monde d’aujourd’hui : celui qui change à une vitesse prodigieuse et qui nous étourdit souvent. Le climat\, la politique\, la géopolitique\, les migrations seront sans nul doute des axes qui occuperont le coeur de la programmation aux côtés de sujets plus optimistes tels l’amour\, les avancées technologiques\, les voyages\, l’Histoire… Une édition qui promet d’être ébouriffante pour laquelle l’association Phylactères sera présente pour fêter ses 20 ans presque tout pile sur le stand de Momie BD ! \nBientôt plus d’informations.
URL:https://phylacteres-bd.fr/index.php/event/livre-a-metz-2023/
LOCATION:Place de la République\, Place de la république\, Metz\, 57000\, France
CATEGORIES:Salon littéraire
ATTACH;FMTTYPE=image/jpeg:https://phylacteres-bd.fr/wp-content/uploads/2023/01/livreMetz_2023.jpg
END:VEVENT
END:VCALENDAR