BEGIN:VCALENDAR
VERSION:2.0
PRODID:-//Phylactères - ECPv6.15.18//NONSGML v1.0//EN
CALSCALE:GREGORIAN
METHOD:PUBLISH
X-ORIGINAL-URL:https://phylacteres-bd.fr
X-WR-CALDESC:Évènements pour Phylactères
REFRESH-INTERVAL;VALUE=DURATION:PT1H
X-Robots-Tag:noindex
X-PUBLISHED-TTL:PT1H
BEGIN:VTIMEZONE
TZID:Europe/Paris
BEGIN:DAYLIGHT
TZOFFSETFROM:+0100
TZOFFSETTO:+0200
TZNAME:CEST
DTSTART:20230326T010000
END:DAYLIGHT
BEGIN:STANDARD
TZOFFSETFROM:+0200
TZOFFSETTO:+0100
TZNAME:CET
DTSTART:20231029T010000
END:STANDARD
BEGIN:DAYLIGHT
TZOFFSETFROM:+0100
TZOFFSETTO:+0200
TZNAME:CEST
DTSTART:20240331T010000
END:DAYLIGHT
BEGIN:STANDARD
TZOFFSETFROM:+0200
TZOFFSETTO:+0100
TZNAME:CET
DTSTART:20241027T010000
END:STANDARD
BEGIN:DAYLIGHT
TZOFFSETFROM:+0100
TZOFFSETTO:+0200
TZNAME:CEST
DTSTART:20250330T010000
END:DAYLIGHT
BEGIN:STANDARD
TZOFFSETFROM:+0200
TZOFFSETTO:+0100
TZNAME:CET
DTSTART:20251026T010000
END:STANDARD
END:VTIMEZONE
BEGIN:VEVENT
DTSTART;TZID=Europe/Paris:20241025T100000
DTEND;TZID=Europe/Paris:20241027T170000
DTSTAMP:20260423T163712
CREATED:20241013T163756Z
LAST-MODIFIED:20241013T163859Z
UID:1553-1729850400-1730048400@phylacteres-bd.fr
SUMMARY:Phylactères au Quai des Bulles 2024
DESCRIPTION:Festival de la bande dessinée et de l’image projetée. Cette année\, c’est la 43ème édition. Rendez-vous incontournable de l’automne pour les malouins et les inconditionnels du neuvième art\, le festival de la Bande Dessinée Quai des Bulles vous donne rendez-vous les 25\, 26 et 27 octobre 2024 ! \nEt pour la première fois\, Phylactères sera présent avec une délégation qui mettra  en avant l’aspect comics-book avec VHB et Zone 57 mais aussi la BD franco-belge avec Echo & Cendre et Bande de Rats mais aussi un hybride BD/manga avec Yin-Yin & Bao ! Leurs auteurs seront là pour vous dédicacer ça avec toute la bonne humeur qu’on leur connaît. \nDurant ces 3 jours\, retrouvez donc : \n– David Bulle\n– Michel Salvino\n– Morad Dermel\n– Yves Pauquet\n– Bri’\n– Guigui \nNous serons à l’emplacement A27 avec nos amis de Northstar Comics.
URL:https://phylacteres-bd.fr/index.php/event/phylacteres-au-quai-des-bulles-2024/
LOCATION:Palais du Grand Large Quai Saint-Malo\, Saint Malo\, 35400\, France
CATEGORIES:Festival BD
ATTACH;FMTTYPE=image/jpeg:https://phylacteres-bd.fr/wp-content/uploads/2024/10/quai-des-bulles-2024.jpg
END:VEVENT
END:VCALENDAR