BEGIN:VCALENDAR
VERSION:2.0
PRODID:-//Phylactères - ECPv6.15.18//NONSGML v1.0//EN
CALSCALE:GREGORIAN
METHOD:PUBLISH
X-ORIGINAL-URL:https://phylacteres-bd.fr
X-WR-CALDESC:Évènements pour Phylactères
REFRESH-INTERVAL;VALUE=DURATION:PT1H
X-Robots-Tag:noindex
X-PUBLISHED-TTL:PT1H
BEGIN:VTIMEZONE
TZID:Europe/Paris
BEGIN:DAYLIGHT
TZOFFSETFROM:+0100
TZOFFSETTO:+0200
TZNAME:CEST
DTSTART:20230326T010000
END:DAYLIGHT
BEGIN:STANDARD
TZOFFSETFROM:+0200
TZOFFSETTO:+0100
TZNAME:CET
DTSTART:20231029T010000
END:STANDARD
BEGIN:DAYLIGHT
TZOFFSETFROM:+0100
TZOFFSETTO:+0200
TZNAME:CEST
DTSTART:20240331T010000
END:DAYLIGHT
BEGIN:STANDARD
TZOFFSETFROM:+0200
TZOFFSETTO:+0100
TZNAME:CET
DTSTART:20241027T010000
END:STANDARD
BEGIN:DAYLIGHT
TZOFFSETFROM:+0100
TZOFFSETTO:+0200
TZNAME:CEST
DTSTART:20250330T010000
END:DAYLIGHT
BEGIN:STANDARD
TZOFFSETFROM:+0200
TZOFFSETTO:+0100
TZNAME:CET
DTSTART:20251026T010000
END:STANDARD
END:VTIMEZONE
BEGIN:VEVENT
DTSTART;TZID=Europe/Paris:20240308T180000
DTEND;TZID=Europe/Paris:20240308T210000
DTSTAMP:20260424T070619
CREATED:20240105T103401Z
LAST-MODIFIED:20240105T103520Z
UID:1279-1709920800-1709931600@phylacteres-bd.fr
SUMMARY:Café BD! Au court-circuit à Nancy
DESCRIPTION:Les membres de l’ Association Phylactères sont toujours là le premier (ou second) vendredi de chaque début de mois à compter de février jusque juin au local à vivre(s) pour vous proposer des café BD ! \nLe concept c’est l’image et de la narration autour de petits jeux écrits ou dessinées. Aucun niveau particulier n’est requis : c’est l’occasion de parler avec des auteur(e)s\, de se procurer nos ouvrages dédicacés\, de faire des petits jeux autour de la BD\, de passer un bon moment dans une ambiance conviviale tout en découvrant un peu plus le 9ème art ! \nL’entrée est libre !
URL:https://phylacteres-bd.fr/index.php/event/cafe-bd-au-court-circuit-a-nancy/
LOCATION:court-circuit Nancy\, 47 rue Voltaire\, Laxou\, 54000\, France
CATEGORIES:Café BD
ATTACH;FMTTYPE=image/jpeg:https://phylacteres-bd.fr/wp-content/uploads/2024/01/407400696_854297086699167_1582712123014081731_n-e1704450503783.jpg
END:VEVENT
BEGIN:VEVENT
DTSTART;VALUE=DATE:20240316
DTEND;VALUE=DATE:20240318
DTSTAMP:20260424T070619
CREATED:20240306T123423Z
LAST-MODIFIED:20240306T123423Z
UID:1487-1710547200-1710719999@phylacteres-bd.fr
SUMMARY:Les Ailes du Livre (22ème édition)
DESCRIPTION:Pour cette nouvelle édition\, de nombreux auteurs ayant produit des oeuvres s’inscrivant dans des genres littéraires variés\, et ayant tous un lien avec Longwy sont mis à l’honneur. Manifestation organisée par l’association Des Livres et Vous. Notre président David Bulle y sera présent pour dédicacer son ouvrage sur la première guerre mondiale : Tranchées sur le vif. \n\nLieu : Hôtel de Ville – Longwy Bas\nHoraires : Samedi de 14h30 à 19h / Dimanche de 11h à 18h
URL:https://phylacteres-bd.fr/index.php/event/les-ailes-du-livre-22eme-edition/
LOCATION:Hôtel de Ville – Longwy Bas\, 4 Avenue de la Grande Duchesse Charlotte\, Longwy\, 54400\, France
CATEGORIES:Salon littéraire
ATTACH;FMTTYPE=image/jpeg:https://phylacteres-bd.fr/wp-content/uploads/2024/03/longwy.jpg
END:VEVENT
END:VCALENDAR