BEGIN:VCALENDAR
VERSION:2.0
PRODID:-//Phylactères - ECPv6.15.18//NONSGML v1.0//EN
CALSCALE:GREGORIAN
METHOD:PUBLISH
X-WR-CALNAME:Phylactères
X-ORIGINAL-URL:https://phylacteres-bd.fr
X-WR-CALDESC:Évènements pour Phylactères
REFRESH-INTERVAL;VALUE=DURATION:PT1H
X-Robots-Tag:noindex
X-PUBLISHED-TTL:PT1H
BEGIN:VTIMEZONE
TZID:Europe/Paris
BEGIN:DAYLIGHT
TZOFFSETFROM:+0100
TZOFFSETTO:+0200
TZNAME:CEST
DTSTART:20250330T010000
END:DAYLIGHT
BEGIN:STANDARD
TZOFFSETFROM:+0200
TZOFFSETTO:+0100
TZNAME:CET
DTSTART:20251026T010000
END:STANDARD
BEGIN:DAYLIGHT
TZOFFSETFROM:+0100
TZOFFSETTO:+0200
TZNAME:CEST
DTSTART:20260329T010000
END:DAYLIGHT
BEGIN:STANDARD
TZOFFSETFROM:+0200
TZOFFSETTO:+0100
TZNAME:CET
DTSTART:20261025T010000
END:STANDARD
BEGIN:DAYLIGHT
TZOFFSETFROM:+0100
TZOFFSETTO:+0200
TZNAME:CEST
DTSTART:20270328T010000
END:DAYLIGHT
BEGIN:STANDARD
TZOFFSETFROM:+0200
TZOFFSETTO:+0100
TZNAME:CET
DTSTART:20271031T010000
END:STANDARD
END:VTIMEZONE
BEGIN:VEVENT
DTSTART;VALUE=DATE:20260502
DTEND;VALUE=DATE:20260504
DTSTAMP:20260422T061901
CREATED:20260303T121406Z
LAST-MODIFIED:20260303T121406Z
UID:1600-1777680000-1777852799@phylacteres-bd.fr
SUMMARY:Le Rayon Vert édition 2026
DESCRIPTION:Le 2 et 3 mai\, le festival Rayon Vert vous donne rendez-vous dans « L’autre monde » (du 9ème art?)\, celui des esprits frappeurs et des fantômes. Pour cette 14ème édition\, l’affiche revêt les parures du surnaturel et de la hantise grâce au travail de l’illustrateur Grégory Lê aka GengisKahn Artwork. Bien sûr nous y aurons notre stand pour y dédicacer nos nouveautés. \n« Un fantôme peut être beaucoup de choses. Un souvenir\, une rêverie\, un secret. Le chagrin\, la colère\, la culpabilité. Mais\, d’après mon expérience\, la plupart du temps\, ils sont juste ce que nous voulons voir.«  \nThe Haunting of Hill House (Mike Flanagan).
URL:https://phylacteres-bd.fr/index.php/event/le-rayon-vert-edition-2026/
LOCATION:Domaine Bompard de Volkrange\, Domaine de Volkrange / Boucle de la Ferme\, Thionville\, 57100\, France
CATEGORIES:Festival BD
ATTACH;FMTTYPE=image/jpeg:https://phylacteres-bd.fr/wp-content/uploads/2026/03/rayonvert26.jpg
END:VEVENT
BEGIN:VEVENT
DTSTART;VALUE=DATE:20260530
DTEND;VALUE=DATE:20260601
DTSTAMP:20260422T061901
CREATED:20260303T122304Z
LAST-MODIFIED:20260303T122304Z
UID:1604-1780099200-1780271999@phylacteres-bd.fr
SUMMARY:METZTORII 2026
DESCRIPTION:Nous serons présents encore une fois à METZTORII sur notre propre sand. Metztorii se déroule au Parc des expositions de Metz. Adresse : Metz-Evénements Rue de la Grange aux Bois à Metz\, ce sera en même temps que la foire de mai en plus\, de quoi passer un bon week-end. Voir notre compte-rendu une notre dernière participation sur notre forum. \n Réservez dès maintenant votre jour et votre trajet sur https://metztorii.fr/billetterie
URL:https://phylacteres-bd.fr/index.php/event/metztorii-2026/
LOCATION:Parc des expositions Metz\, Rue de la Grange aux Bois\,\, Metz\, 57070\, France
CATEGORIES:Évènement culturel,Festival BD
ATTACH;FMTTYPE=image/jpeg:https://phylacteres-bd.fr/wp-content/uploads/2026/03/metztorii26.jpg
END:VEVENT
BEGIN:VEVENT
DTSTART;VALUE=DATE:20260530
DTEND;VALUE=DATE:20260601
DTSTAMP:20260422T061901
CREATED:20260303T144333Z
LAST-MODIFIED:20260303T144333Z
UID:1608-1780099200-1780271999@phylacteres-bd.fr
SUMMARY:Festival Villers BD : 14e édition
DESCRIPTION:Cette année\, le festival de Villers BD aura lieu les 30 et 31 mai 2026\, c’est la 14 édition \, nous y aurons comme chaque année un stand. Nous comptons sur la présence des autrices et auteurs de l’Abracadabrant illustré pour les deux jours car le festival de Villers attire chaque année un grand nombre de passionnés de la BD\, il nous faudra des bras et des mains pour faire toutes les dédicaces demandées. \nBientôt plus d’infos…
URL:https://phylacteres-bd.fr/index.php/event/festival-villers-bd-14e-edition/
LOCATION:VILLERS BD\, 6 Rue Albert 1er\, Villers-lès-Nancy\, 54600\, France
CATEGORIES:Festival BD
ATTACH;FMTTYPE=image/jpeg:https://phylacteres-bd.fr/wp-content/uploads/2026/03/619613092_1329267039234742_4500079757890181452_n-e1772549001634.jpg
END:VEVENT
BEGIN:VEVENT
DTSTART;VALUE=DATE:20260620
DTEND;VALUE=DATE:20260622
DTSTAMP:20260422T061901
CREATED:20260303T145031Z
LAST-MODIFIED:20260303T145031Z
UID:1613-1781913600-1782086399@phylacteres-bd.fr
SUMMARY:Salon du Livre de Toul
DESCRIPTION:Juste avant l’été et les grandes vacances\, le Salon du Livre de Toul est le moment privilégié pour remplir sa pile à lire et trouver le roman qui vous accompagnera sur la plage ! C’est aussi l’occasion de rencontrer les auteurs et de faire dédicacer ses livres ! \nDans le cloître de la cathédrale\, rencontrez quelque 120 auteurs répartis entre la librairie Bossuet et quelque 30 maisons d’édition régionales (dont l’équipe de Phylactères). \nL’accès libre à l’événement vous permettra de profiter\, pendant deux jours\, d’animations pour tous les publics.
URL:https://phylacteres-bd.fr/index.php/event/salon-du-livre-de-toul/
LOCATION:Salon du Livre de Toul\, 2 Place des Clercs\, Toul\, 54200\, France
CATEGORIES:Salon littéraire
ATTACH;FMTTYPE=image/jpeg:https://phylacteres-bd.fr/wp-content/uploads/2026/03/488905976_1220393343420306_3056440719738820517_n-e1772549397793.jpg
END:VEVENT
BEGIN:VEVENT
DTSTART;TZID=Europe/Paris:20260919T080000
DTEND;TZID=Europe/Paris:20260920T170000
DTSTAMP:20260422T061901
CREATED:20260316T132714Z
LAST-MODIFIED:20260320T081711Z
UID:1631-1789804800-1789923600@phylacteres-bd.fr
SUMMARY:ÉTRANGE GRANDE 2026
DESCRIPTION:Ce festival est né du constat qu’il n’y a pas une\, mais des littératures populaires. Science-fiction\, fantasy\, fantastique\, polar\, horreur\, romance… On désignait autrefois ces littératures sous le terme de « mauvais genres ». Ironie du sort\, ce qui était autrefois décrié a acquis aujourd’hui ses lettres de noblesse\, au point de bénéficier d’une émission de radio sur France Culture.
URL:https://phylacteres-bd.fr/index.php/event/etrange-grande/
LOCATION:Hettange-Grande\, 5 Rue de Pederobba\, Hettange-Grande\, 57330\, France
CATEGORIES:Salon littéraire
ATTACH;FMTTYPE=image/jpeg:https://phylacteres-bd.fr/wp-content/uploads/2026/03/Etrange-Grande.jpg
END:VEVENT
BEGIN:VEVENT
DTSTART;TZID=Europe/Paris:20261108T100000
DTEND;TZID=Europe/Paris:20261108T180000
DTSTAMP:20260422T061901
CREATED:20260316T131945Z
LAST-MODIFIED:20260320T081811Z
UID:1623-1794132000-1794160800@phylacteres-bd.fr
SUMMARY:2e salon du livre à Yutz 2026
DESCRIPTION:Venez à la rencontre de plus de 50 auteurs aux univers variés :\n\nRomans\, poésie\, jeunesse\, témoignages\, thrillers\, fantasy\, bandes dessinées\, essais…
URL:https://phylacteres-bd.fr/index.php/event/2e-salon-du-livre-a-yutz/
LOCATION:yutz\, amphY\, 126 rue de la République\, Yutz\, France
CATEGORIES:Festival BD
ATTACH;FMTTYPE=image/jpeg:https://phylacteres-bd.fr/wp-content/uploads/2026/03/Affiche-YUTZ-e1773994682949.jpg
END:VEVENT
END:VCALENDAR